BEGIN:VCALENDAR
VERSION:2.0
PRODID:-//Grace Communion Mooroolbark - ECPv6.15.20//NONSGML v1.0//EN
CALSCALE:GREGORIAN
METHOD:PUBLISH
X-WR-CALNAME:Grace Communion Mooroolbark
X-ORIGINAL-URL:https://mooroolbark.gci.org.au
X-WR-CALDESC:Events for Grace Communion Mooroolbark
REFRESH-INTERVAL;VALUE=DURATION:PT1H
X-Robots-Tag:noindex
X-PUBLISHED-TTL:PT1H
BEGIN:VTIMEZONE
TZID:Australia/Melbourne
BEGIN:STANDARD
TZOFFSETFROM:+1100
TZOFFSETTO:+1000
TZNAME:AEST
DTSTART:20200404T160000
END:STANDARD
BEGIN:DAYLIGHT
TZOFFSETFROM:+1000
TZOFFSETTO:+1100
TZNAME:AEDT
DTSTART:20201003T160000
END:DAYLIGHT
BEGIN:STANDARD
TZOFFSETFROM:+1100
TZOFFSETTO:+1000
TZNAME:AEST
DTSTART:20210403T160000
END:STANDARD
BEGIN:DAYLIGHT
TZOFFSETFROM:+1000
TZOFFSETTO:+1100
TZNAME:AEDT
DTSTART:20211002T160000
END:DAYLIGHT
BEGIN:STANDARD
TZOFFSETFROM:+1100
TZOFFSETTO:+1000
TZNAME:AEST
DTSTART:20220402T160000
END:STANDARD
BEGIN:DAYLIGHT
TZOFFSETFROM:+1000
TZOFFSETTO:+1100
TZNAME:AEDT
DTSTART:20221001T160000
END:DAYLIGHT
END:VTIMEZONE
BEGIN:VEVENT
DTSTART;TZID=Australia/Melbourne:20211002T110000
DTEND;TZID=Australia/Melbourne:20211002T170000
DTSTAMP:20260420T011609
CREATED:20210911T014413Z
LAST-MODIFIED:20210911T014413Z
UID:3902-1633172400-1633194000@mooroolbark.gci.org.au
SUMMARY:Worship Service
DESCRIPTION:
URL:https://mooroolbark.gci.org.au/event/worship-service-7/
LOCATION:ZOOM
CATEGORIES:Worship Service
ATTACH;FMTTYPE=image/gif:https://mooroolbark.gci.org.au/wp-content/uploads/2021/09/11am-online-service-this-4.gif
END:VEVENT
BEGIN:VEVENT
DTSTART;TZID=Australia/Melbourne:20211002T193000
DTEND;TZID=Australia/Melbourne:20211002T193000
DTSTAMP:20260420T011609
CREATED:20210911T013408Z
LAST-MODIFIED:20210911T013600Z
UID:3898-1633203000-1633203000@mooroolbark.gci.org.au
SUMMARY:Youth Discussion
DESCRIPTION:
URL:https://mooroolbark.gci.org.au/event/youth-discussion/
LOCATION:ZOOM
CATEGORIES:Youth
ATTACH;FMTTYPE=image/webp:https://mooroolbark.gci.org.au/wp-content/uploads/2021/09/Violet-and-Peach-Brushstroke-Artists-Influencer-YouTube-Channel-Art-2.webp
END:VEVENT
BEGIN:VEVENT
DTSTART;TZID=Australia/Melbourne:20211008T193000
DTEND;TZID=Australia/Melbourne:20211008T193000
DTSTAMP:20260420T011609
CREATED:20210912T090539Z
LAST-MODIFIED:20210912T090539Z
UID:4075-1633721400-1633721400@mooroolbark.gci.org.au
SUMMARY:People's Pantry
DESCRIPTION:
URL:https://mooroolbark.gci.org.au/event/peoples-pantry-2/
LOCATION:St Margaret’s Uniting Church – Mooroolbark\, 207-219 Hull Road\, Mooroolbark\, Victoria\, 3138\, Australia
CATEGORIES:Outreach
ATTACH;FMTTYPE=image/webp:https://mooroolbark.gci.org.au/wp-content/uploads/2021/09/Copy-of-Beynd-1-scaled.webp
END:VEVENT
BEGIN:VEVENT
DTSTART;TZID=Australia/Melbourne:20211009T110000
DTEND;TZID=Australia/Melbourne:20211009T123000
DTSTAMP:20260420T011609
CREATED:20210912T091209Z
LAST-MODIFIED:20210912T091209Z
UID:4079-1633777200-1633782600@mooroolbark.gci.org.au
SUMMARY:Worship Service
DESCRIPTION:
URL:https://mooroolbark.gci.org.au/event/worship-service-8/
LOCATION:ZOOM
CATEGORIES:Worship Service
ATTACH;FMTTYPE=image/gif:https://mooroolbark.gci.org.au/wp-content/uploads/2021/09/11am-online-service-this-4.gif
END:VEVENT
BEGIN:VEVENT
DTSTART;TZID=Australia/Melbourne:20211016T110000
DTEND;TZID=Australia/Melbourne:20211016T123000
DTSTAMP:20260420T011609
CREATED:20210912T091350Z
LAST-MODIFIED:20210912T091350Z
UID:4081-1634382000-1634387400@mooroolbark.gci.org.au
SUMMARY:Worship Service
DESCRIPTION:
URL:https://mooroolbark.gci.org.au/event/worship-service-9/
LOCATION:ZOOM
CATEGORIES:Worship Service
ATTACH;FMTTYPE=image/gif:https://mooroolbark.gci.org.au/wp-content/uploads/2021/09/11am-online-service-this-4.gif
END:VEVENT
BEGIN:VEVENT
DTSTART;TZID=Australia/Melbourne:20211022T193000
DTEND;TZID=Australia/Melbourne:20211022T193000
DTSTAMP:20260420T011609
CREATED:20210912T091845Z
LAST-MODIFIED:20210912T091845Z
UID:4087-1634931000-1634931000@mooroolbark.gci.org.au
SUMMARY:People's Pantry
DESCRIPTION:
URL:https://mooroolbark.gci.org.au/event/peoples-pantry-3/
LOCATION:St Margaret’s Uniting Church – Mooroolbark\, 207-219 Hull Road\, Mooroolbark\, Victoria\, 3138\, Australia
CATEGORIES:Outreach
ATTACH;FMTTYPE=image/webp:https://mooroolbark.gci.org.au/wp-content/uploads/2021/09/Copy-of-Beynd-1-scaled.webp
END:VEVENT
BEGIN:VEVENT
DTSTART;TZID=Australia/Melbourne:20211023T110000
DTEND;TZID=Australia/Melbourne:20211023T170000
DTSTAMP:20260420T011609
CREATED:20210912T091500Z
LAST-MODIFIED:20210912T091500Z
UID:4083-1634986800-1635008400@mooroolbark.gci.org.au
SUMMARY:Worship Service
DESCRIPTION:
URL:https://mooroolbark.gci.org.au/event/worship-service-10/
LOCATION:ZOOM
CATEGORIES:Worship Service
ATTACH;FMTTYPE=image/gif:https://mooroolbark.gci.org.au/wp-content/uploads/2021/09/11am-online-service-this-4.gif
END:VEVENT
BEGIN:VEVENT
DTSTART;TZID=Australia/Melbourne:20211031T100000
DTEND;TZID=Australia/Melbourne:20211031T113000
DTSTAMP:20260420T011609
CREATED:20210912T091604Z
LAST-MODIFIED:20210912T091604Z
UID:4085-1635674400-1635679800@mooroolbark.gci.org.au
SUMMARY:Worship Service
DESCRIPTION:
URL:https://mooroolbark.gci.org.au/event/worship-service-11/
LOCATION:ZOOM
CATEGORIES:Worship Service
ATTACH;FMTTYPE=image/gif:https://mooroolbark.gci.org.au/wp-content/uploads/2021/09/11am-online-service-this-5.gif
END:VEVENT
END:VCALENDAR